BEGIN:VCALENDAR
VERSION:2.0
PRODID:-//Santa Barbara Sail &amp; Power Squadron - ECPv6.15.20//NONSGML v1.0//EN
CALSCALE:GREGORIAN
METHOD:PUBLISH
X-WR-CALNAME:Santa Barbara Sail &amp; Power Squadron
X-ORIGINAL-URL:https://www.sbsps.net
X-WR-CALDESC:Events for Santa Barbara Sail &amp; Power Squadron
REFRESH-INTERVAL;VALUE=DURATION:PT1H
X-Robots-Tag:noindex
X-PUBLISHED-TTL:PT1H
BEGIN:VTIMEZONE
TZID:America/Los_Angeles
BEGIN:DAYLIGHT
TZOFFSETFROM:-0800
TZOFFSETTO:-0700
TZNAME:PDT
DTSTART:20200308T100000
END:DAYLIGHT
BEGIN:STANDARD
TZOFFSETFROM:-0700
TZOFFSETTO:-0800
TZNAME:PST
DTSTART:20201101T090000
END:STANDARD
BEGIN:DAYLIGHT
TZOFFSETFROM:-0800
TZOFFSETTO:-0700
TZNAME:PDT
DTSTART:20210314T100000
END:DAYLIGHT
BEGIN:STANDARD
TZOFFSETFROM:-0700
TZOFFSETTO:-0800
TZNAME:PST
DTSTART:20211107T090000
END:STANDARD
BEGIN:DAYLIGHT
TZOFFSETFROM:-0800
TZOFFSETTO:-0700
TZNAME:PDT
DTSTART:20220313T100000
END:DAYLIGHT
BEGIN:STANDARD
TZOFFSETFROM:-0700
TZOFFSETTO:-0800
TZNAME:PST
DTSTART:20221106T090000
END:STANDARD
BEGIN:DAYLIGHT
TZOFFSETFROM:-0800
TZOFFSETTO:-0700
TZNAME:PDT
DTSTART:20230312T100000
END:DAYLIGHT
BEGIN:STANDARD
TZOFFSETFROM:-0700
TZOFFSETTO:-0800
TZNAME:PST
DTSTART:20231105T090000
END:STANDARD
BEGIN:DAYLIGHT
TZOFFSETFROM:-0800
TZOFFSETTO:-0700
TZNAME:PDT
DTSTART:20240310T100000
END:DAYLIGHT
BEGIN:STANDARD
TZOFFSETFROM:-0700
TZOFFSETTO:-0800
TZNAME:PST
DTSTART:20241103T090000
END:STANDARD
BEGIN:DAYLIGHT
TZOFFSETFROM:-0800
TZOFFSETTO:-0700
TZNAME:PDT
DTSTART:20250309T100000
END:DAYLIGHT
BEGIN:STANDARD
TZOFFSETFROM:-0700
TZOFFSETTO:-0800
TZNAME:PST
DTSTART:20251102T090000
END:STANDARD
BEGIN:DAYLIGHT
TZOFFSETFROM:-0800
TZOFFSETTO:-0700
TZNAME:PDT
DTSTART:20260308T100000
END:DAYLIGHT
BEGIN:STANDARD
TZOFFSETFROM:-0700
TZOFFSETTO:-0800
TZNAME:PST
DTSTART:20261101T090000
END:STANDARD
END:VTIMEZONE
BEGIN:VEVENT
DTSTART;TZID=America/Los_Angeles:20251112T080000
DTEND;TZID=America/Los_Angeles:20251112T170000
DTSTAMP:20260423T110100
CREATED:20250208T002121Z
LAST-MODIFIED:20250208T002121Z
UID:10000286-1762934400-1762966800@www.sbsps.net
SUMMARY:Maritime Museum Mixer
DESCRIPTION:Annual Maritime Museum Mixer. Held in conjunction With Santa Barbara Sailing Society.. Enjoy wine and Hors D’oeuvres along with sailor camaraderie.
URL:https://www.sbsps.net/boating-event/maritime-museum-mixer-3/
LOCATION:Santa Barbara Maritime Museum\, 113 Harbor Way\, #190\, Santa Barbara\, CA\, 93109\, United States
CATEGORIES:Social
ORGANIZER;CN="Suzette Seagoe":MAILTO:jpseagoecox.net
GEO:34.4041086;-119.6937365
X-APPLE-STRUCTURED-LOCATION;VALUE=URI;X-ADDRESS=Santa Barbara Maritime Museum 113 Harbor Way #190 Santa Barbara CA 93109 United States;X-APPLE-RADIUS=500;X-TITLE=113 Harbor Way\, #190:geo:-119.6937365,34.4041086
END:VEVENT
BEGIN:VEVENT
DTSTART;TZID=America/Los_Angeles:20241113T173000
DTEND;TZID=America/Los_Angeles:20241113T193000
DTSTAMP:20260423T110100
CREATED:20170827T211133Z
LAST-MODIFIED:20240604T174034Z
UID:10000236-1731519000-1731526200@www.sbsps.net
SUMMARY:Maritime Museum Mixer
DESCRIPTION:Mixer at the Museum\nWe want to welcome all of the attendees at our recent classes and seminars as well as all of our members at a mixer being held at the SB Maritime Museum.  We will have free wine and appetizers as well as the opportunity to visit all of the Museum’s displays and exhibits.  This is a great chance to catch up with folks with whom you’ve taken classes and find out how you are all doing with the new-found knowledge from the class material.\n 
URL:https://www.sbsps.net/boating-event/mixer-students-members/
LOCATION:Santa Barbara Maritime Museum\, 113 Harbor Way\, #190\, Santa Barbara\, CA\, 93109\, United States
CATEGORIES:Social
GEO:34.4041086;-119.6937365
X-APPLE-STRUCTURED-LOCATION;VALUE=URI;X-ADDRESS=Santa Barbara Maritime Museum 113 Harbor Way #190 Santa Barbara CA 93109 United States;X-APPLE-RADIUS=500;X-TITLE=113 Harbor Way\, #190:geo:-119.6937365,34.4041086
END:VEVENT
BEGIN:VEVENT
DTSTART;TZID=America/Los_Angeles:20231115T170000
DTEND;TZID=America/Los_Angeles:20231115T190000
DTSTAMP:20260423T110100
CREATED:20230130T195007Z
LAST-MODIFIED:20231106T232635Z
UID:10000243-1700067600-1700074800@www.sbsps.net
SUMMARY:Maritime Museum Mixer
DESCRIPTION:We want to welcome all of our members at a mixer being held at the SB Maritime Museum.  We will be joined by members of the Santa Barbara Sailing Club.  We will have free wine and appetizers as well as the opportunity to visit all of the Museum’s displays and exhibits.  \n  \nPlease RSVP below indicating the number of people attending.  We look forward to seeing you there.
URL:https://www.sbsps.net/boating-event/maritime-museum-mixer-2/
LOCATION:Santa Barbara Maritime Museum\, 113 Harbor Way\, #190\, Santa Barbara\, CA\, 93109\, United States
CATEGORIES:Social
ORGANIZER;CN="Suzette Seagoe":MAILTO:jpseagoecox.net
GEO:34.4041086;-119.6937365
X-APPLE-STRUCTURED-LOCATION;VALUE=URI;X-ADDRESS=Santa Barbara Maritime Museum 113 Harbor Way #190 Santa Barbara CA 93109 United States;X-APPLE-RADIUS=500;X-TITLE=113 Harbor Way\, #190:geo:-119.6937365,34.4041086
END:VEVENT
BEGIN:VEVENT
DTSTART;TZID=America/Los_Angeles:20211117T170000
DTEND;TZID=America/Los_Angeles:20211117T190000
DTSTAMP:20260423T110100
CREATED:20210310T183113Z
LAST-MODIFIED:20211105T173239Z
UID:10000190-1637168400-1637175600@www.sbsps.net
SUMMARY:Maritime Museum Mixer - CANCELLED
DESCRIPTION:Due to Covid restrictions\, this event will not be held in 2021.\n  \nMixer for all Squadron members and guests as well as prospective members.  The Maritime Museum is reserved for our event which provides an opportunity to enjoy the museum undisturbed by the public.  We will have a guest speaker.  Wine\, cheese and hors d’oeuvres provided by the Squadron.
URL:https://www.sbsps.net/boating-event/maritime-museum-mixer/
LOCATION:Santa Barbara Maritime Museum\, 113 Harbor Way\, #190\, Santa Barbara\, CA\, 93109\, United States
CATEGORIES:Social
GEO:34.4041086;-119.6937365
X-APPLE-STRUCTURED-LOCATION;VALUE=URI;X-ADDRESS=Santa Barbara Maritime Museum 113 Harbor Way #190 Santa Barbara CA 93109 United States;X-APPLE-RADIUS=500;X-TITLE=113 Harbor Way\, #190:geo:-119.6937365,34.4041086
END:VEVENT
END:VCALENDAR