BEGIN:VCALENDAR
VERSION:2.0
PRODID:-//Santa Barbara Sail &amp; Power Squadron - ECPv6.15.20//NONSGML v1.0//EN
CALSCALE:GREGORIAN
METHOD:PUBLISH
X-ORIGINAL-URL:https://www.sbsps.net
X-WR-CALDESC:Events for Santa Barbara Sail &amp; Power Squadron
REFRESH-INTERVAL;VALUE=DURATION:PT1H
X-Robots-Tag:noindex
X-PUBLISHED-TTL:PT1H
BEGIN:VTIMEZONE
TZID:America/Los_Angeles
BEGIN:DAYLIGHT
TZOFFSETFROM:-0800
TZOFFSETTO:-0700
TZNAME:PDT
DTSTART:20180311T100000
END:DAYLIGHT
BEGIN:STANDARD
TZOFFSETFROM:-0700
TZOFFSETTO:-0800
TZNAME:PST
DTSTART:20181104T090000
END:STANDARD
BEGIN:DAYLIGHT
TZOFFSETFROM:-0800
TZOFFSETTO:-0700
TZNAME:PDT
DTSTART:20190310T100000
END:DAYLIGHT
BEGIN:STANDARD
TZOFFSETFROM:-0700
TZOFFSETTO:-0800
TZNAME:PST
DTSTART:20191103T090000
END:STANDARD
BEGIN:DAYLIGHT
TZOFFSETFROM:-0800
TZOFFSETTO:-0700
TZNAME:PDT
DTSTART:20200308T100000
END:DAYLIGHT
BEGIN:STANDARD
TZOFFSETFROM:-0700
TZOFFSETTO:-0800
TZNAME:PST
DTSTART:20201101T090000
END:STANDARD
END:VTIMEZONE
BEGIN:VEVENT
DTSTART;TZID=America/Los_Angeles:20190928T130000
DTEND;TZID=America/Los_Angeles:20190928T170000
DTSTAMP:20260423T085346
CREATED:20190201T004525Z
LAST-MODIFIED:20190201T004525Z
UID:10000219-1569675600-1569690000@www.sbsps.net
SUMMARY:Afternoon Rally
DESCRIPTION:This will be a fun rally afternoon for both rag hangers and stink potters. The course and “rules” will be determined as we get closer to the actual date. Following the rally\, we will gather to both socialize and discuss our performance and tactics. It will be a fun afternoon for all squadron members. \nWe ask that members who are planning to participate advise the event coordinator if they would be willing to host members without a boat. Members without a boat should RSVP to the event coordinator who will work to match them up with a “ride”. \nNOTE: As with all on the water events\, they are subject weather and sea conditions. The weather coordinator will “call the weather” to indicate a go/no-go for these events.
URL:https://www.sbsps.net/boating-event/afternoon-rally/
LOCATION:Santa Barbara Harbor\, Waterfront\, Santa Barbara\, CA\, 93109\, United States
CATEGORIES:Boating Events
ORGANIZER;CN="Jim Hirsch":MAILTO:jhirsch@isolitesystems.com
GEO:34.4037491;-119.6935611
X-APPLE-STRUCTURED-LOCATION;VALUE=URI;X-ADDRESS=Santa Barbara Harbor Waterfront Santa Barbara CA 93109 United States;X-APPLE-RADIUS=500;X-TITLE=Waterfront:geo:-119.6935611,34.4037491
END:VEVENT
END:VCALENDAR