BEGIN:VCALENDAR
VERSION:2.0
PRODID:-//Santa Barbara Sail &amp; Power Squadron - ECPv6.15.20//NONSGML v1.0//EN
CALSCALE:GREGORIAN
METHOD:PUBLISH
X-WR-CALNAME:Santa Barbara Sail &amp; Power Squadron
X-ORIGINAL-URL:https://www.sbsps.net
X-WR-CALDESC:Events for Santa Barbara Sail &amp; Power Squadron
REFRESH-INTERVAL;VALUE=DURATION:PT1H
X-Robots-Tag:noindex
X-PUBLISHED-TTL:PT1H
BEGIN:VTIMEZONE
TZID:America/Los_Angeles
BEGIN:DAYLIGHT
TZOFFSETFROM:-0800
TZOFFSETTO:-0700
TZNAME:PDT
DTSTART:20180311T100000
END:DAYLIGHT
BEGIN:STANDARD
TZOFFSETFROM:-0700
TZOFFSETTO:-0800
TZNAME:PST
DTSTART:20181104T090000
END:STANDARD
BEGIN:DAYLIGHT
TZOFFSETFROM:-0800
TZOFFSETTO:-0700
TZNAME:PDT
DTSTART:20190310T100000
END:DAYLIGHT
BEGIN:STANDARD
TZOFFSETFROM:-0700
TZOFFSETTO:-0800
TZNAME:PST
DTSTART:20191103T090000
END:STANDARD
BEGIN:DAYLIGHT
TZOFFSETFROM:-0800
TZOFFSETTO:-0700
TZNAME:PDT
DTSTART:20200308T100000
END:DAYLIGHT
BEGIN:STANDARD
TZOFFSETFROM:-0700
TZOFFSETTO:-0800
TZNAME:PST
DTSTART:20201101T090000
END:STANDARD
BEGIN:DAYLIGHT
TZOFFSETFROM:-0800
TZOFFSETTO:-0700
TZNAME:PDT
DTSTART:20210314T100000
END:DAYLIGHT
BEGIN:STANDARD
TZOFFSETFROM:-0700
TZOFFSETTO:-0800
TZNAME:PST
DTSTART:20211107T090000
END:STANDARD
BEGIN:DAYLIGHT
TZOFFSETFROM:-0800
TZOFFSETTO:-0700
TZNAME:PDT
DTSTART:20220313T100000
END:DAYLIGHT
BEGIN:STANDARD
TZOFFSETFROM:-0700
TZOFFSETTO:-0800
TZNAME:PST
DTSTART:20221106T090000
END:STANDARD
BEGIN:DAYLIGHT
TZOFFSETFROM:-0800
TZOFFSETTO:-0700
TZNAME:PDT
DTSTART:20230312T100000
END:DAYLIGHT
BEGIN:STANDARD
TZOFFSETFROM:-0700
TZOFFSETTO:-0800
TZNAME:PST
DTSTART:20231105T090000
END:STANDARD
BEGIN:DAYLIGHT
TZOFFSETFROM:-0800
TZOFFSETTO:-0700
TZNAME:PDT
DTSTART:20240310T100000
END:DAYLIGHT
BEGIN:STANDARD
TZOFFSETFROM:-0700
TZOFFSETTO:-0800
TZNAME:PST
DTSTART:20241103T090000
END:STANDARD
END:VTIMEZONE
BEGIN:VEVENT
DTSTART;TZID=America/Los_Angeles:20230610T160000
DTEND;TZID=America/Los_Angeles:20230610T190000
DTSTAMP:20260423T073647
CREATED:20230128T193936Z
LAST-MODIFIED:20230223T224156Z
UID:10000166-1686412800-1686423600@www.sbsps.net
SUMMARY:Progressive Dinner
DESCRIPTION:Progressive Dinner\nCome join fellow Squadron members for a fun filled progressive dinner at the Harbor.   \nWe will enjoy appetizers\, main courses\, dessert and coffee hosted on 4 different boats. \nMembers will bring a dish of their choosing for each category along with your own paper plates and utensils. \nThis is an opportunity to socialize with members\, visit member boats and enjoy boating stories enjoying June’s late sunsets. \n  \nWe look forward to seeing many of you there!
URL:https://www.sbsps.net/boating-event/4653/
LOCATION:Santa Barbara Harbor\, Waterfront\, Santa Barbara\, CA\, 93109\, United States
CATEGORIES:Social
GEO:34.4037491;-119.6935611
X-APPLE-STRUCTURED-LOCATION;VALUE=URI;X-ADDRESS=Santa Barbara Harbor Waterfront Santa Barbara CA 93109 United States;X-APPLE-RADIUS=500;X-TITLE=Waterfront:geo:-119.6935611,34.4037491
END:VEVENT
BEGIN:VEVENT
DTSTART;TZID=America/Los_Angeles:20230519T080000
DTEND;TZID=America/Los_Angeles:20230521T170000
DTSTAMP:20260423T073647
CREATED:20230128T191656Z
LAST-MODIFIED:20230128T191656Z
UID:10000163-1684483200-1684688400@www.sbsps.net
SUMMARY:Weekend Cruise
DESCRIPTION:May 19-21.  Weekend Cruise – Santa Cruz Island.  Anchorage TBD.  Point person will make call on any weather concerns or issues.
URL:https://www.sbsps.net/boating-event/weekend-cruise-4/
LOCATION:Santa Barbara Harbor\, Waterfront\, Santa Barbara\, CA\, 93109\, United States
CATEGORIES:Boating Events
ORGANIZER;CN="Scott Burns":MAILTO:w.scott.burns@cox.net
GEO:34.4037491;-119.6935611
X-APPLE-STRUCTURED-LOCATION;VALUE=URI;X-ADDRESS=Santa Barbara Harbor Waterfront Santa Barbara CA 93109 United States;X-APPLE-RADIUS=500;X-TITLE=Waterfront:geo:-119.6935611,34.4037491
END:VEVENT
BEGIN:VEVENT
DTSTART;TZID=America/Los_Angeles:20230516T180000
DTEND;TZID=America/Los_Angeles:20230516T193000
DTSTAMP:20260423T073647
CREATED:20230128T193158Z
LAST-MODIFIED:20230424T003154Z
UID:10000165-1684260000-1684265400@www.sbsps.net
SUMMARY:Safe Boating Week
DESCRIPTION:During Safe Boating Week we will have an exercise on the beach where you can practice firing your expired flares and using fire extinguishers.  If you’ve never done this or it’s been a while\, this is a great opportunity.   \nLocation is usually on West Beach just west of Yacht Club parking lot.  Starting time is approximate so check with point person.
URL:https://www.sbsps.net/boating-event/safe-boating-week-2/
LOCATION:Santa Barbara Harbor\, Waterfront\, Santa Barbara\, CA\, 93109\, United States
CATEGORIES:Boating Events
GEO:34.4037491;-119.6935611
X-APPLE-STRUCTURED-LOCATION;VALUE=URI;X-ADDRESS=Santa Barbara Harbor Waterfront Santa Barbara CA 93109 United States;X-APPLE-RADIUS=500;X-TITLE=Waterfront:geo:-119.6935611,34.4037491
END:VEVENT
BEGIN:VEVENT
DTSTART;TZID=America/Los_Angeles:20230506T080000
DTEND;TZID=America/Los_Angeles:20230506T113000
DTSTAMP:20260423T073647
CREATED:20230128T191412Z
LAST-MODIFIED:20230223T224439Z
UID:10000162-1683360000-1683372600@www.sbsps.net
SUMMARY:Harbor Clean Sweep
DESCRIPTION:Come assist other volunteers and Harbor Staff with annual Harbor Cleanup event.  Coffee\, Donuts AND LUNCH provided! \nMore details  HERE
URL:https://www.sbsps.net/boating-event/harbor-clean-sweep-4/
LOCATION:Santa Barbara Harbor\, Waterfront\, Santa Barbara\, CA\, 93109\, United States
CATEGORIES:Boating Events,Social
GEO:34.4037491;-119.6935611
X-APPLE-STRUCTURED-LOCATION;VALUE=URI;X-ADDRESS=Santa Barbara Harbor Waterfront Santa Barbara CA 93109 United States;X-APPLE-RADIUS=500;X-TITLE=Waterfront:geo:-119.6935611,34.4037491
END:VEVENT
BEGIN:VEVENT
DTSTART;TZID=America/Los_Angeles:20230415T120000
DTEND;TZID=America/Los_Angeles:20230415T170000
DTSTAMP:20260423T073647
CREATED:20230128T190903Z
LAST-MODIFIED:20230128T190903Z
UID:10000161-1681560000-1681578000@www.sbsps.net
SUMMARY:Dockside Spring Brunch
DESCRIPTION:Come and be feted by Past Squadron Commanders at Annual Spring Brunch for all members.    Come hungry for a great brunch provided free to all attendees.  This is an opportunity to meet and socialize with other Squadron members and talk about boats and boating activities.
URL:https://www.sbsps.net/boating-event/dockside-spring-brunch/
LOCATION:Santa Barbara Harbor\, Waterfront\, Santa Barbara\, CA\, 93109\, United States
CATEGORIES:Social
ORGANIZER;CN="Dennis Johns":MAILTO:sbmesasailor@gmail.com
GEO:34.4037491;-119.6935611
X-APPLE-STRUCTURED-LOCATION;VALUE=URI;X-ADDRESS=Santa Barbara Harbor Waterfront Santa Barbara CA 93109 United States;X-APPLE-RADIUS=500;X-TITLE=Waterfront:geo:-119.6935611,34.4037491
END:VEVENT
BEGIN:VEVENT
DTSTART;TZID=America/Los_Angeles:20221015T080000
DTEND;TZID=America/Los_Angeles:20221015T160000
DTSTAMP:20260423T073647
CREATED:20210310T182445Z
LAST-MODIFIED:20220217T002947Z
UID:10000191-1665820800-1665849600@www.sbsps.net
SUMMARY:Harbor and Seafood Festival
DESCRIPTION:This event sponsored by the Harbor Dept. draws thousand to the Harbor for food\, tours\, shopping and community outreach.  The Squadron will have a table set up all day to promote the Squadron’s education\, activities and USPS association.
URL:https://www.sbsps.net/boating-event/harbor-and-seafood-festival/
LOCATION:Santa Barbara Harbor\, Waterfront\, Santa Barbara\, CA\, 93109\, United States
CATEGORIES:Boating Events
ORGANIZER;CN="Dennis Johns":MAILTO:sbmesasailor@gmail.com
GEO:34.4037491;-119.6935611
X-APPLE-STRUCTURED-LOCATION;VALUE=URI;X-ADDRESS=Santa Barbara Harbor Waterfront Santa Barbara CA 93109 United States;X-APPLE-RADIUS=500;X-TITLE=Waterfront:geo:-119.6935611,34.4037491
END:VEVENT
BEGIN:VEVENT
DTSTART;TZID=America/Los_Angeles:20221008T100000
DTEND;TZID=America/Los_Angeles:20221008T130000
DTSTAMP:20260423T073647
CREATED:20210310T181811Z
LAST-MODIFIED:20220218T235658Z
UID:10000192-1665223200-1665234000@www.sbsps.net
SUMMARY:Dockside Brunch
DESCRIPTION:This is a pot luck brunch – venue TBD.  Details provided prior to the event.
URL:https://www.sbsps.net/boating-event/dockside-brunch-2/
LOCATION:Santa Barbara Harbor\, Waterfront\, Santa Barbara\, CA\, 93109\, United States
CATEGORIES:Social
ORGANIZER;CN="Ed and Martha Kaufman":MAILTO:kaufmaned@aol.com
GEO:34.4037491;-119.6935611
X-APPLE-STRUCTURED-LOCATION;VALUE=URI;X-ADDRESS=Santa Barbara Harbor Waterfront Santa Barbara CA 93109 United States;X-APPLE-RADIUS=500;X-TITLE=Waterfront:geo:-119.6935611,34.4037491
END:VEVENT
BEGIN:VEVENT
DTSTART;TZID=America/Los_Angeles:20220923T080000
DTEND;TZID=America/Los_Angeles:20220925T170000
DTSTAMP:20260423T073647
CREATED:20220217T002503Z
LAST-MODIFIED:20220217T002503Z
UID:10000215-1663920000-1664125200@www.sbsps.net
SUMMARY:Weekend Cruise - Island/Harbor TBD
DESCRIPTION:This is a weekend Cruise to TBD Island – anchorage TBD – led by our Cruising Pro Scott Burns.  Details to be provided by Scott prior to the weekend.  NOTE: Weather conditions will always dictate safety of planned cruises.
URL:https://www.sbsps.net/boating-event/weekend-cruise-island-harbor-tbd/
LOCATION:Santa Barbara Harbor\, Waterfront\, Santa Barbara\, CA\, 93109\, United States
CATEGORIES:Boating Events
ORGANIZER;CN="Scott Burns":MAILTO:w.scott.burns@cox.net
GEO:34.4037491;-119.6935611
X-APPLE-STRUCTURED-LOCATION;VALUE=URI;X-ADDRESS=Santa Barbara Harbor Waterfront Santa Barbara CA 93109 United States;X-APPLE-RADIUS=500;X-TITLE=Waterfront:geo:-119.6935611,34.4037491
END:VEVENT
BEGIN:VEVENT
DTSTART;TZID=America/Los_Angeles:20220624T080000
DTEND;TZID=America/Los_Angeles:20220626T170000
DTSTAMP:20260423T073647
CREATED:20220217T000013Z
LAST-MODIFIED:20220611T230416Z
UID:10000216-1656057600-1656262800@www.sbsps.net
SUMMARY:Weekend Cruise Santa Cruz Island
DESCRIPTION:This is a weekend Cruise to Santa Cruz Island – Pelican’s – led by our Cruising Pro Scott Burns.  Details to be provided by Scott prior to the weekend.  NOTE: Weather conditions will always dictate safety of planned cruises.
URL:https://www.sbsps.net/boating-event/weekend-cruise-santa-cruz-island-2/
LOCATION:Santa Barbara Harbor\, Waterfront\, Santa Barbara\, CA\, 93109\, United States
CATEGORIES:Boating Events
ORGANIZER;CN="Scott Burns":MAILTO:w.scott.burns@cox.net
GEO:34.4037491;-119.6935611
X-APPLE-STRUCTURED-LOCATION;VALUE=URI;X-ADDRESS=Santa Barbara Harbor Waterfront Santa Barbara CA 93109 United States;X-APPLE-RADIUS=500;X-TITLE=Waterfront:geo:-119.6935611,34.4037491
END:VEVENT
BEGIN:VEVENT
DTSTART;TZID=America/Los_Angeles:20220611T160000
DTEND;TZID=America/Los_Angeles:20220611T200000
DTSTAMP:20260423T073647
CREATED:20180225T195353Z
LAST-MODIFIED:20220216T235750Z
UID:10000235-1654963200-1654977600@www.sbsps.net
SUMMARY:Progressive Dinner
DESCRIPTION:Progressive Dinner\nCome join fellow Squadron members for a fun filled progressive dinner at the Harbor.   \nWe will enjoy appetizers\, main courses\, dessert and coffee hosted on 4 different boats. \nMembers will bring a dish of their choosing for each category along with your own paper plates and utensils. \nThis is an opportunity to socialize with members\, visit member boats and enjoy boating stories enjoying June’s late sunsets. \n  \nWe look forward to seeing many of you there! \n  \n 
URL:https://www.sbsps.net/boating-event/progressive-dinner/
LOCATION:Santa Barbara Harbor\, Waterfront\, Santa Barbara\, CA\, 93109\, United States
CATEGORIES:Social
ORGANIZER;CN="Rich Ciolino":MAILTO:rdciolino@cox.net
GEO:34.4037491;-119.6935611
X-APPLE-STRUCTURED-LOCATION;VALUE=URI;X-ADDRESS=Santa Barbara Harbor Waterfront Santa Barbara CA 93109 United States;X-APPLE-RADIUS=500;X-TITLE=Waterfront:geo:-119.6935611,34.4037491
END:VEVENT
BEGIN:VEVENT
DTSTART;TZID=America/Los_Angeles:20220521T080000
DTEND;TZID=America/Los_Angeles:20220521T120000
DTSTAMP:20260423T073647
CREATED:20190201T011910Z
LAST-MODIFIED:20220315T200628Z
UID:10000220-1653120000-1653134400@www.sbsps.net
SUMMARY:Nautical Swap Meet
DESCRIPTION:This event hosted by the Harbor Department is an opportunity for you to sell those nautical items you no longer need.   It’s also an opportunity for you to discover items you never thought you needed.  One man’s trash is another man’s treasure! \nThe Squadron will have it’s own spot for all members to share and display their items for sale.   \nItems should be clearly marked with “asking” prices so that if you wander off to browse and someone comes by\, another member can represent you.   \nThe Harbor Department provides donuts and coffee!
URL:https://www.sbsps.net/boating-event/nautical-swap-meet/
LOCATION:Santa Barbara Harbor\, Waterfront\, Santa Barbara\, CA\, 93109\, United States
CATEGORIES:Boating Events
GEO:34.4037491;-119.6935611
X-APPLE-STRUCTURED-LOCATION;VALUE=URI;X-ADDRESS=Santa Barbara Harbor Waterfront Santa Barbara CA 93109 United States;X-APPLE-RADIUS=500;X-TITLE=Waterfront:geo:-119.6935611,34.4037491
END:VEVENT
BEGIN:VEVENT
DTSTART;TZID=America/Los_Angeles:20220520T080000
DTEND;TZID=America/Los_Angeles:20220522T170000
DTSTAMP:20260423T073647
CREATED:20220216T211705Z
LAST-MODIFIED:20220216T212437Z
UID:10000223-1653033600-1653238800@www.sbsps.net
SUMMARY:Weekend Cruise Santa Cruz Island
DESCRIPTION:This is a weekend Cruise to Santa Cruz Island – anchorage TBD – led by our Cruising Pro Scott Burns.  Details to be provided by Scott prior to the weekend.  NOTE: Weather conditions will always dictate safety of planned cruises.
URL:https://www.sbsps.net/boating-event/weekend-cruise-santa-cruz-island/
LOCATION:Santa Barbara Harbor\, Waterfront\, Santa Barbara\, CA\, 93109\, United States
CATEGORIES:Boating Events
ORGANIZER;CN="Scott Burns":MAILTO:w.scott.burns@cox.net
GEO:34.4037491;-119.6935611
X-APPLE-STRUCTURED-LOCATION;VALUE=URI;X-ADDRESS=Santa Barbara Harbor Waterfront Santa Barbara CA 93109 United States;X-APPLE-RADIUS=500;X-TITLE=Waterfront:geo:-119.6935611,34.4037491
END:VEVENT
BEGIN:VEVENT
DTSTART;TZID=America/Los_Angeles:20220507T080000
DTEND;TZID=America/Los_Angeles:20220507T120000
DTSTAMP:20260423T073647
CREATED:20200205T220745Z
LAST-MODIFIED:20220315T201024Z
UID:10000212-1651910400-1651924800@www.sbsps.net
SUMMARY:Harbor Clean Sweep
DESCRIPTION:This event is a chance to give back to Santa Barbara Harbor.  Squadron members who participate will volunteer with Harbor Dept personnel and volunteer divers to clean trash from the marina.  This is a fun event where you will be amazed at the items retrieved from the harbor bottom. \nLunch will be provided by the Harbor Dept.
URL:https://www.sbsps.net/boating-event/harbor-clean-sweep-2/
LOCATION:Santa Barbara Harbor\, Waterfront\, Santa Barbara\, CA\, 93109\, United States
CATEGORIES:Boating Events,Social
ORGANIZER;CN="Duane Felander":MAILTO:duane@smart-medicaltraining.com
GEO:34.4037491;-119.6935611
X-APPLE-STRUCTURED-LOCATION;VALUE=URI;X-ADDRESS=Santa Barbara Harbor Waterfront Santa Barbara CA 93109 United States;X-APPLE-RADIUS=500;X-TITLE=Waterfront:geo:-119.6935611,34.4037491
END:VEVENT
BEGIN:VEVENT
DTSTART;TZID=America/Los_Angeles:20210924T080000
DTEND;TZID=America/Los_Angeles:20210926T170000
DTSTAMP:20260423T073647
CREATED:20210308T181906Z
LAST-MODIFIED:20210308T181922Z
UID:10000201-1632470400-1632675600@www.sbsps.net
SUMMARY:Weekend Cruise
DESCRIPTION:Weekend Cruise – destination TBA by Scott Burns. \nDetails will be provided by Scott prior to cruise. NOTE: Weather conditions will always dictate safety of planned cruises.
URL:https://www.sbsps.net/boating-event/weekend-cruise-3/
LOCATION:Santa Barbara Harbor\, Waterfront\, Santa Barbara\, CA\, 93109\, United States
CATEGORIES:Boating Events
ORGANIZER;CN="Scott Burns":MAILTO:w.scott.burns@cox.net
GEO:34.4037491;-119.6935611
X-APPLE-STRUCTURED-LOCATION;VALUE=URI;X-ADDRESS=Santa Barbara Harbor Waterfront Santa Barbara CA 93109 United States;X-APPLE-RADIUS=500;X-TITLE=Waterfront:geo:-119.6935611,34.4037491
END:VEVENT
BEGIN:VEVENT
DTSTART;TZID=America/Los_Angeles:20210723T080000
DTEND;TZID=America/Los_Angeles:20210725T170000
DTSTAMP:20260423T073647
CREATED:20210308T181724Z
LAST-MODIFIED:20210310T184142Z
UID:10000194-1627027200-1627232400@www.sbsps.net
SUMMARY:Weekend Cruise - Location TBA
DESCRIPTION:Weekend Cruise – destination TBA by Scott Burns. \nDetails will be provided by Scott prior to cruise. NOTE: Weather conditions will always dictate safety of planned cruises.
URL:https://www.sbsps.net/boating-event/weekend-cruise-location-tba/
LOCATION:Santa Barbara Harbor\, Waterfront\, Santa Barbara\, CA\, 93109\, United States
CATEGORIES:Boating Events
ORGANIZER;CN="Scott Burns":MAILTO:w.scott.burns@cox.net
GEO:34.4037491;-119.6935611
X-APPLE-STRUCTURED-LOCATION;VALUE=URI;X-ADDRESS=Santa Barbara Harbor Waterfront Santa Barbara CA 93109 United States;X-APPLE-RADIUS=500;X-TITLE=Waterfront:geo:-119.6935611,34.4037491
END:VEVENT
BEGIN:VEVENT
DTSTART;TZID=America/Los_Angeles:20210710T160000
DTEND;TZID=America/Los_Angeles:20210710T200000
DTSTAMP:20260423T073647
CREATED:20210308T184120Z
LAST-MODIFIED:20210308T185847Z
UID:10000187-1625932800-1625947200@www.sbsps.net
SUMMARY:Afternoon Boat Cruise
DESCRIPTION:This is an opportunity for an easy afternoon cruise outside Santa Barbara Harbor.  Stowaways welcome – meaning you are encouraged to bring other members and friends on your boat.  Afterwards we will all get together a a local cafe in the Harbor nearby to share tales of “the harrowing wind and waves we experienced this afternoon!”  This is always a fun event – 4-6pm or so on the water followed by an hour or two at the cafe.  Details to be provided by Dennis John prior to event. \nNOTE: Weather conditions will always dictate safety of planned cruises.
URL:https://www.sbsps.net/boating-event/afternoon-boat-cruise/
LOCATION:Santa Barbara Harbor\, Waterfront\, Santa Barbara\, CA\, 93109\, United States
CATEGORIES:Boating Events
ORGANIZER;CN="Dennis Johns":MAILTO:sbmesasailor@gmail.com
GEO:34.4037491;-119.6935611
X-APPLE-STRUCTURED-LOCATION;VALUE=URI;X-ADDRESS=Santa Barbara Harbor Waterfront Santa Barbara CA 93109 United States;X-APPLE-RADIUS=500;X-TITLE=Waterfront:geo:-119.6935611,34.4037491
END:VEVENT
BEGIN:VEVENT
DTSTART;TZID=America/Los_Angeles:20210618T080000
DTEND;TZID=America/Los_Angeles:20210620T170000
DTSTAMP:20260423T073647
CREATED:20210308T181351Z
LAST-MODIFIED:20210308T181351Z
UID:10000196-1624003200-1624208400@www.sbsps.net
SUMMARY:Weekend Cruise - Pelican Harbor
DESCRIPTION:This is a weekend Cruise to Pelican Harbor on Santa Cruz Island led by our Cruising Pro Scott Burns.  Details to be provided by Scott prior to the weekend.  NOTE: Weather conditions will always dictate safety of planned cruises.
URL:https://www.sbsps.net/boating-event/weekend-cruise-pelican-harbor-2/
LOCATION:Santa Barbara Harbor\, Waterfront\, Santa Barbara\, CA\, 93109\, United States
CATEGORIES:Boating Events
ORGANIZER;CN="Scott Burns":MAILTO:w.scott.burns@cox.net
GEO:34.4037491;-119.6935611
X-APPLE-STRUCTURED-LOCATION;VALUE=URI;X-ADDRESS=Santa Barbara Harbor Waterfront Santa Barbara CA 93109 United States;X-APPLE-RADIUS=500;X-TITLE=Waterfront:geo:-119.6935611,34.4037491
END:VEVENT
BEGIN:VEVENT
DTSTART;TZID=America/Los_Angeles:20210521T080000
DTEND;TZID=America/Los_Angeles:20210523T170000
DTSTAMP:20260423T073647
CREATED:20210308T174327Z
LAST-MODIFIED:20210308T181459Z
UID:10000195-1621584000-1621789200@www.sbsps.net
SUMMARY:Weekend Cruise - Fry's Harbor
DESCRIPTION:Weekend cruise to Fry’s Harbor – one of the most popular destinations on Santa Cruz Island.  Our resident Island Cruising Pro\, Scott Burns\, will lead this cruise.  \nDetails will be provided by Scott prior to cruise. NOTE: Weather conditions will always dictate safety of planned cruises.
URL:https://www.sbsps.net/boating-event/weekend-cruise-frys-harbor/
LOCATION:Santa Barbara Harbor\, Waterfront\, Santa Barbara\, CA\, 93109\, United States
CATEGORIES:Boating Events
ORGANIZER;CN="Scott Burns":MAILTO:w.scott.burns@cox.net
GEO:34.4037491;-119.6935611
X-APPLE-STRUCTURED-LOCATION;VALUE=URI;X-ADDRESS=Santa Barbara Harbor Waterfront Santa Barbara CA 93109 United States;X-APPLE-RADIUS=500;X-TITLE=Waterfront:geo:-119.6935611,34.4037491
END:VEVENT
BEGIN:VEVENT
DTSTART;TZID=America/Los_Angeles:20210515T080000
DTEND;TZID=America/Los_Angeles:20210515T120000
DTSTAMP:20260423T073647
CREATED:20210308T173641Z
LAST-MODIFIED:20210308T173641Z
UID:10000206-1621065600-1621080000@www.sbsps.net
SUMMARY:Harbor Clean Sweep
DESCRIPTION:Annual Harbor Cleanup volunteer exercise – pending Harbor Dept schedule and easing of Covid restrictions.  More details as date approaches
URL:https://www.sbsps.net/boating-event/harbor-clean-sweep-3/
LOCATION:Santa Barbara Harbor\, Waterfront\, Santa Barbara\, CA\, 93109\, United States
CATEGORIES:Boating Events
ORGANIZER;CN="Dennis Johns":MAILTO:sbmesasailor@gmail.com
GEO:34.4037491;-119.6935611
X-APPLE-STRUCTURED-LOCATION;VALUE=URI;X-ADDRESS=Santa Barbara Harbor Waterfront Santa Barbara CA 93109 United States;X-APPLE-RADIUS=500;X-TITLE=Waterfront:geo:-119.6935611,34.4037491
END:VEVENT
BEGIN:VEVENT
DTSTART;TZID=America/Los_Angeles:20201010T100000
DTEND;TZID=America/Los_Angeles:20201010T123000
DTSTAMP:20260423T073647
CREATED:20180225T204419Z
LAST-MODIFIED:20220217T002808Z
UID:10000232-1602324000-1602333000@www.sbsps.net
SUMMARY:Dockside Brunch
DESCRIPTION:Come join fellow Squadron Members for a scrumptious brunch dockside. \nThis will be a potluck with more information provided as we get closer to the event – stay tuned!!
URL:https://www.sbsps.net/boating-event/dockside-brunch/
LOCATION:Santa Barbara Harbor\, Waterfront\, Santa Barbara\, CA\, 93109\, United States
CATEGORIES:Social
ORGANIZER;CN="Ed and Martha Kaufman":MAILTO:kaufmaned@aol.com
GEO:34.4037491;-119.6935611
X-APPLE-STRUCTURED-LOCATION;VALUE=URI;X-ADDRESS=Santa Barbara Harbor Waterfront Santa Barbara CA 93109 United States;X-APPLE-RADIUS=500;X-TITLE=Waterfront:geo:-119.6935611,34.4037491
END:VEVENT
BEGIN:VEVENT
DTSTART;TZID=America/Los_Angeles:20190928T130000
DTEND;TZID=America/Los_Angeles:20190928T170000
DTSTAMP:20260423T073647
CREATED:20190201T004525Z
LAST-MODIFIED:20190201T004525Z
UID:10000219-1569675600-1569690000@www.sbsps.net
SUMMARY:Afternoon Rally
DESCRIPTION:This will be a fun rally afternoon for both rag hangers and stink potters. The course and “rules” will be determined as we get closer to the actual date. Following the rally\, we will gather to both socialize and discuss our performance and tactics. It will be a fun afternoon for all squadron members. \nWe ask that members who are planning to participate advise the event coordinator if they would be willing to host members without a boat. Members without a boat should RSVP to the event coordinator who will work to match them up with a “ride”. \nNOTE: As with all on the water events\, they are subject weather and sea conditions. The weather coordinator will “call the weather” to indicate a go/no-go for these events.
URL:https://www.sbsps.net/boating-event/afternoon-rally/
LOCATION:Santa Barbara Harbor\, Waterfront\, Santa Barbara\, CA\, 93109\, United States
CATEGORIES:Boating Events
ORGANIZER;CN="Jim Hirsch":MAILTO:jhirsch@isolitesystems.com
GEO:34.4037491;-119.6935611
X-APPLE-STRUCTURED-LOCATION;VALUE=URI;X-ADDRESS=Santa Barbara Harbor Waterfront Santa Barbara CA 93109 United States;X-APPLE-RADIUS=500;X-TITLE=Waterfront:geo:-119.6935611,34.4037491
END:VEVENT
END:VCALENDAR