BEGIN:VCALENDAR
VERSION:2.0
PRODID:-//Santa Barbara Sail &amp; Power Squadron - ECPv6.15.20//NONSGML v1.0//EN
CALSCALE:GREGORIAN
METHOD:PUBLISH
X-ORIGINAL-URL:https://www.sbsps.net
X-WR-CALDESC:Events for Santa Barbara Sail &amp; Power Squadron
REFRESH-INTERVAL;VALUE=DURATION:PT1H
X-Robots-Tag:noindex
X-PUBLISHED-TTL:PT1H
BEGIN:VTIMEZONE
TZID:America/Los_Angeles
BEGIN:DAYLIGHT
TZOFFSETFROM:-0800
TZOFFSETTO:-0700
TZNAME:PDT
DTSTART:20210314T100000
END:DAYLIGHT
BEGIN:STANDARD
TZOFFSETFROM:-0700
TZOFFSETTO:-0800
TZNAME:PST
DTSTART:20211107T090000
END:STANDARD
BEGIN:DAYLIGHT
TZOFFSETFROM:-0800
TZOFFSETTO:-0700
TZNAME:PDT
DTSTART:20220313T100000
END:DAYLIGHT
BEGIN:STANDARD
TZOFFSETFROM:-0700
TZOFFSETTO:-0800
TZNAME:PST
DTSTART:20221106T090000
END:STANDARD
BEGIN:DAYLIGHT
TZOFFSETFROM:-0800
TZOFFSETTO:-0700
TZNAME:PDT
DTSTART:20230312T100000
END:DAYLIGHT
BEGIN:STANDARD
TZOFFSETFROM:-0700
TZOFFSETTO:-0800
TZNAME:PST
DTSTART:20231105T090000
END:STANDARD
BEGIN:DAYLIGHT
TZOFFSETFROM:-0800
TZOFFSETTO:-0700
TZNAME:PDT
DTSTART:20240310T100000
END:DAYLIGHT
BEGIN:STANDARD
TZOFFSETFROM:-0700
TZOFFSETTO:-0800
TZNAME:PST
DTSTART:20241103T090000
END:STANDARD
BEGIN:DAYLIGHT
TZOFFSETFROM:-0800
TZOFFSETTO:-0700
TZNAME:PDT
DTSTART:20250309T100000
END:DAYLIGHT
BEGIN:STANDARD
TZOFFSETFROM:-0700
TZOFFSETTO:-0800
TZNAME:PST
DTSTART:20251102T090000
END:STANDARD
END:VTIMEZONE
BEGIN:VEVENT
DTSTART;TZID=America/Los_Angeles:20241207T120000
DTEND;TZID=America/Los_Angeles:20241207T150000
DTSTAMP:20260423T143733
CREATED:20240207T195639Z
LAST-MODIFIED:20241112T190149Z
UID:10000184-1733572800-1733583600@www.sbsps.net
SUMMARY:Annual Holiday Party
DESCRIPTION:Santa Barbara Sail & Power Squadron\nHoliday Lunch \nSaturday December 7\, 2024 \nNOON \nMulligans \n 3500 McCaw Avenue\, Santa Barbara \n$36/person \nMexican Buffet \nDessert \nTea\, coffee\, water included \nNo host bar \nPurchase tickets with credit card below \nor \nRSVP with check for SBSPS to: Virginia Johns  sbmesafirstmate@gmail.com; 353 Cooper Road\, SB\, CA 93109 \n For a copy of the Holiday flyer click HERE \n\n\n\n\n\n\n\nCome prepared to share a memorable holiday story – maybe something involving family traditions\, or something unusual you did\, or an unusual place you celebrated that holiday.  It does not have to be a December/January holiday – any memorable holiday.\n\n\n\n \n\n\n\n                                            \n  \n 
URL:https://www.sbsps.net/boating-event/annual-holiday-party/
LOCATION:Mulligans Cafe & Bar\, 3500 McCaw Avenue\, Santa Barbara\, CA\, 93105\, United States
CATEGORIES:Social
ORGANIZER;CN="Suzette Seagoe":MAILTO:jpseagoecox.net
GEO:34.4365048;-119.7382736
X-APPLE-STRUCTURED-LOCATION;VALUE=URI;X-ADDRESS=Mulligans Cafe & Bar 3500 McCaw Avenue Santa Barbara CA 93105 United States;X-APPLE-RADIUS=500;X-TITLE=3500 McCaw Avenue:geo:-119.7382736,34.4365048
END:VEVENT
BEGIN:VEVENT
DTSTART;TZID=America/Los_Angeles:20221210T180000
DTEND;TZID=America/Los_Angeles:20221210T210000
DTSTAMP:20260423T143733
CREATED:20170212T004940Z
LAST-MODIFIED:20221123T181436Z
UID:10000224-1670695200-1670706000@www.sbsps.net
SUMMARY:Holiday Party
DESCRIPTION:  \n  \n  \n The Squadron will hold its annual Holiday Party and dinner at Mulligans for 2022.  For more information including menu choices please click  2022 HOLIDAY PARTY to view the flyer. \nPayment by credit card can be made below.   \nPayment by check must be sent to Janis Johnson – see flyer for details and mailing address. \n 
URL:https://www.sbsps.net/boating-event/2017-parade-lights/
LOCATION:Mulligans Cafe & Bar\, 3500 McCaw Avenue\, Santa Barbara\, CA\, 93105\, United States
CATEGORIES:Social
ORGANIZER;CN="Janis Johnson":MAILTO:janishoppy@cox.net
GEO:34.4365048;-119.7382736
X-APPLE-STRUCTURED-LOCATION;VALUE=URI;X-ADDRESS=Mulligans Cafe & Bar 3500 McCaw Avenue Santa Barbara CA 93105 United States;X-APPLE-RADIUS=500;X-TITLE=3500 McCaw Avenue:geo:-119.7382736,34.4365048
END:VEVENT
END:VCALENDAR