BEGIN:VCALENDAR
VERSION:2.0
PRODID:-//Santa Barbara Sail &amp; Power Squadron - ECPv6.15.20//NONSGML v1.0//EN
CALSCALE:GREGORIAN
METHOD:PUBLISH
X-WR-CALNAME:Santa Barbara Sail &amp; Power Squadron
X-ORIGINAL-URL:https://www.sbsps.net
X-WR-CALDESC:Events for Santa Barbara Sail &amp; Power Squadron
REFRESH-INTERVAL;VALUE=DURATION:PT1H
X-Robots-Tag:noindex
X-PUBLISHED-TTL:PT1H
BEGIN:VTIMEZONE
TZID:America/Los_Angeles
BEGIN:DAYLIGHT
TZOFFSETFROM:-0800
TZOFFSETTO:-0700
TZNAME:PDT
DTSTART:20200308T100000
END:DAYLIGHT
BEGIN:STANDARD
TZOFFSETFROM:-0700
TZOFFSETTO:-0800
TZNAME:PST
DTSTART:20201101T090000
END:STANDARD
BEGIN:DAYLIGHT
TZOFFSETFROM:-0800
TZOFFSETTO:-0700
TZNAME:PDT
DTSTART:20210314T100000
END:DAYLIGHT
BEGIN:STANDARD
TZOFFSETFROM:-0700
TZOFFSETTO:-0800
TZNAME:PST
DTSTART:20211107T090000
END:STANDARD
BEGIN:DAYLIGHT
TZOFFSETFROM:-0800
TZOFFSETTO:-0700
TZNAME:PDT
DTSTART:20220313T100000
END:DAYLIGHT
BEGIN:STANDARD
TZOFFSETFROM:-0700
TZOFFSETTO:-0800
TZNAME:PST
DTSTART:20221106T090000
END:STANDARD
END:VTIMEZONE
BEGIN:VEVENT
DTSTART;TZID=America/Los_Angeles:20211023T120000
DTEND;TZID=America/Los_Angeles:20211023T150000
DTSTAMP:20260423T182803
CREATED:20210908T155103Z
LAST-MODIFIED:20211014T202830Z
UID:10000207-1634990400-1635001200@www.sbsps.net
SUMMARY:D13 BBQ
DESCRIPTION:This event has been cancelled\n\n \n\n\n\nRelax Reconnect Enjoy ! \nFall District BBQ \nSaturday – October 23 \nNoon \nCabrillo Beach Yacht Club\n211 W 22nd St San Pedro Ca 90731 \nTri-tip\, chicken\, sides\, dessert \nOnly $22 (no host beer and wine) \nRSVP deadline Noon Friday October 15th\n1. Click below to purchase tickets\, send your RSVP and pay via credit card  \n2. Or send your RSVP and check to: \nVirginia Johns 353 Cooper Road\, Santa Barbara\, CA 93109 \nBoating down?  Make slip reservation with: \nDean Wyer 310-519-1694 x 204
URL:https://www.sbsps.net/boating-event/d13-bbq/
LOCATION:Cabrillo Yacht Club\, 211 W. 22nd St\, San Pedro \, CA\, 90731\, United States
CATEGORIES:Social
ORGANIZER;CN="Virginia Johns":MAILTO:sbmesafirstmate@gmail.com
GEO:33.7246384;-118.2826287
X-APPLE-STRUCTURED-LOCATION;VALUE=URI;X-ADDRESS=Cabrillo Yacht Club 211 W. 22nd St San Pedro  CA 90731 United States;X-APPLE-RADIUS=500;X-TITLE=211 W. 22nd St:geo:-118.2826287,33.7246384
END:VEVENT
END:VCALENDAR