BEGIN:VCALENDAR
VERSION:2.0
PRODID:-//Santa Barbara Sail &amp; Power Squadron - ECPv6.15.20//NONSGML v1.0//EN
CALSCALE:GREGORIAN
METHOD:PUBLISH
X-WR-CALNAME:Santa Barbara Sail &amp; Power Squadron
X-ORIGINAL-URL:https://www.sbsps.net
X-WR-CALDESC:Events for Santa Barbara Sail &amp; Power Squadron
REFRESH-INTERVAL;VALUE=DURATION:PT1H
X-Robots-Tag:noindex
X-PUBLISHED-TTL:PT1H
BEGIN:VTIMEZONE
TZID:America/Los_Angeles
BEGIN:DAYLIGHT
TZOFFSETFROM:-0800
TZOFFSETTO:-0700
TZNAME:PDT
DTSTART:20240310T100000
END:DAYLIGHT
BEGIN:STANDARD
TZOFFSETFROM:-0700
TZOFFSETTO:-0800
TZNAME:PST
DTSTART:20241103T090000
END:STANDARD
BEGIN:DAYLIGHT
TZOFFSETFROM:-0800
TZOFFSETTO:-0700
TZNAME:PDT
DTSTART:20250309T100000
END:DAYLIGHT
BEGIN:STANDARD
TZOFFSETFROM:-0700
TZOFFSETTO:-0800
TZNAME:PST
DTSTART:20251102T090000
END:STANDARD
BEGIN:DAYLIGHT
TZOFFSETFROM:-0800
TZOFFSETTO:-0700
TZNAME:PDT
DTSTART:20260308T100000
END:DAYLIGHT
BEGIN:STANDARD
TZOFFSETFROM:-0700
TZOFFSETTO:-0800
TZNAME:PST
DTSTART:20261101T090000
END:STANDARD
END:VTIMEZONE
BEGIN:VEVENT
DTSTART;TZID=America/Los_Angeles:20251008T080000
DTEND;TZID=America/Los_Angeles:20251014T170000
DTSTAMP:20260423T093938
CREATED:20250208T001447Z
LAST-MODIFIED:20250208T001447Z
UID:10000284-1759910400-1760461200@www.sbsps.net
SUMMARY:Catalina Cruise
DESCRIPTION:Catalina Cruise to Two Harbors on the Western side of the Island.  Distance is 91 miles.  This will be a 7 day cruise and the weather this time of year should be perfect.  More details as the date approaches.
URL:https://www.sbsps.net/boating-event/catalina-cruise-2/
LOCATION:Isthmus Catalina\, Isthmus Harbor\, Catalina\, CA\, United States
CATEGORIES:Boating Events
ORGANIZER;CN="Scott Burns":MAILTO:w.scott.burns@cox.net
GEO:33.44;-118.49833
X-APPLE-STRUCTURED-LOCATION;VALUE=URI;X-ADDRESS=Isthmus Catalina Isthmus Harbor Catalina CA United States;X-APPLE-RADIUS=500;X-TITLE=Isthmus Harbor:geo:-118.49833,33.44
END:VEVENT
BEGIN:VEVENT
DTSTART;TZID=America/Los_Angeles:20250926T080000
DTEND;TZID=America/Los_Angeles:20250928T170000
DTSTAMP:20260423T093938
CREATED:20250208T001110Z
LAST-MODIFIED:20250208T001110Z
UID:10000283-1758873600-1759078800@www.sbsps.net
SUMMARY:Weekend Cruise Santa Cruz - Pelicans Harbor
DESCRIPTION:Weekend Cruise to Pelicans Harbor – weather permitting.
URL:https://www.sbsps.net/boating-event/weekend-cruise-santa-cruz-pelicans-harbor/
LOCATION:Santa Barbara Harbor\, Waterfront\, Santa Barbara\, CA\, 93109\, United States
CATEGORIES:Boating Events
ORGANIZER;CN="Scott Burns":MAILTO:w.scott.burns@cox.net
GEO:34.4037491;-119.6935611
X-APPLE-STRUCTURED-LOCATION;VALUE=URI;X-ADDRESS=Santa Barbara Harbor Waterfront Santa Barbara CA 93109 United States;X-APPLE-RADIUS=500;X-TITLE=Waterfront:geo:-119.6935611,34.4037491
END:VEVENT
BEGIN:VEVENT
DTSTART;TZID=America/Los_Angeles:20250829T080000
DTEND;TZID=America/Los_Angeles:20250901T170000
DTSTAMP:20260423T093938
CREATED:20250208T000602Z
LAST-MODIFIED:20250208T000602Z
UID:10000281-1756454400-1756746000@www.sbsps.net
SUMMARY:Labor Day Weekend Cruise - Destination TBD
DESCRIPTION:Weekend cruise.  Destination will be determined as date approaches.   \nNote: this is Labor Day weekend so it will be a 4 day cruise.
URL:https://www.sbsps.net/boating-event/labor-day-weekend-cruise-destination-tbd/
CATEGORIES:Boating Events
ORGANIZER;CN="Scott Burns":MAILTO:w.scott.burns@cox.net
END:VEVENT
BEGIN:VEVENT
DTSTART;TZID=America/Los_Angeles:20250627T080000
DTEND;TZID=America/Los_Angeles:20250629T170000
DTSTAMP:20260423T093938
CREATED:20250207T235725Z
LAST-MODIFIED:20250207T235740Z
UID:10000279-1751011200-1751216400@www.sbsps.net
SUMMARY:Weekend Cruise - Santa Cruz
DESCRIPTION:Weekend Cruise – weather permitting- to Santa Cruz – Coches Harbor.  Details from Scott and Alec as date approaches.
URL:https://www.sbsps.net/boating-event/weekend-cruise-santa-cruz/
LOCATION:Santa Barbara Harbor\, Waterfront\, Santa Barbara\, CA\, 93109\, United States
CATEGORIES:Boating Events
GEO:34.4037491;-119.6935611
X-APPLE-STRUCTURED-LOCATION;VALUE=URI;X-ADDRESS=Santa Barbara Harbor Waterfront Santa Barbara CA 93109 United States;X-APPLE-RADIUS=500;X-TITLE=Waterfront:geo:-119.6935611,34.4037491
END:VEVENT
BEGIN:VEVENT
DTSTART;TZID=America/Los_Angeles:20250516T080000
DTEND;TZID=America/Los_Angeles:20250518T170000
DTSTAMP:20260423T093938
CREATED:20250204T005924Z
LAST-MODIFIED:20250205T222720Z
UID:10000276-1747382400-1747587600@www.sbsps.net
SUMMARY:Weekend Cruise
DESCRIPTION:First weekend cruise of the year – weather permitting.  Destination Santa Cruz – Fry’s Harbor
URL:https://www.sbsps.net/boating-event/weekend-cruise/
CATEGORIES:Boating Events
ORGANIZER;CN="Scott Burns":MAILTO:w.scott.burns@cox.net
END:VEVENT
END:VCALENDAR