BEGIN:VCALENDAR
VERSION:2.0
PRODID:-//Santa Barbara Sail &amp; Power Squadron - ECPv6.15.20//NONSGML v1.0//EN
CALSCALE:GREGORIAN
METHOD:PUBLISH
X-WR-CALNAME:Santa Barbara Sail &amp; Power Squadron
X-ORIGINAL-URL:https://www.sbsps.net
X-WR-CALDESC:Events for Santa Barbara Sail &amp; Power Squadron
REFRESH-INTERVAL;VALUE=DURATION:PT1H
X-Robots-Tag:noindex
X-PUBLISHED-TTL:PT1H
BEGIN:VTIMEZONE
TZID:America/Los_Angeles
BEGIN:DAYLIGHT
TZOFFSETFROM:-0800
TZOFFSETTO:-0700
TZNAME:PDT
DTSTART:20220313T100000
END:DAYLIGHT
BEGIN:STANDARD
TZOFFSETFROM:-0700
TZOFFSETTO:-0800
TZNAME:PST
DTSTART:20221106T090000
END:STANDARD
BEGIN:DAYLIGHT
TZOFFSETFROM:-0800
TZOFFSETTO:-0700
TZNAME:PDT
DTSTART:20230312T100000
END:DAYLIGHT
BEGIN:STANDARD
TZOFFSETFROM:-0700
TZOFFSETTO:-0800
TZNAME:PST
DTSTART:20231105T090000
END:STANDARD
BEGIN:DAYLIGHT
TZOFFSETFROM:-0800
TZOFFSETTO:-0700
TZNAME:PDT
DTSTART:20240310T100000
END:DAYLIGHT
BEGIN:STANDARD
TZOFFSETFROM:-0700
TZOFFSETTO:-0800
TZNAME:PST
DTSTART:20241103T090000
END:STANDARD
BEGIN:DAYLIGHT
TZOFFSETFROM:-0800
TZOFFSETTO:-0700
TZNAME:PDT
DTSTART:20250309T100000
END:DAYLIGHT
BEGIN:STANDARD
TZOFFSETFROM:-0700
TZOFFSETTO:-0800
TZNAME:PST
DTSTART:20251102T090000
END:STANDARD
BEGIN:DAYLIGHT
TZOFFSETFROM:-0800
TZOFFSETTO:-0700
TZNAME:PDT
DTSTART:20260308T100000
END:DAYLIGHT
BEGIN:STANDARD
TZOFFSETFROM:-0700
TZOFFSETTO:-0800
TZNAME:PST
DTSTART:20261101T090000
END:STANDARD
END:VTIMEZONE
BEGIN:VEVENT
DTSTART;TZID=America/Los_Angeles:20230130T080000
DTEND;TZID=America/Los_Angeles:20240131T170000
DTSTAMP:20260421T171418
CREATED:20230130T191426Z
LAST-MODIFIED:20230828T174154Z
UID:10000239-1675065600-1706720400@www.sbsps.net
SUMMARY:Calendar of 2023 Events
DESCRIPTION:For a complete printable list of events for 2023 print HERE 03/02/23 version
URL:https://www.sbsps.net/boating-event/calendar-of-2023-events/
LOCATION:CA
CATEGORIES:Boating Events,Business Meetings,Classes,Meetings,Social
ORGANIZER;CN="Virginia Johns":MAILTO:sbmesafirstmate@gmail.com
END:VEVENT
BEGIN:VEVENT
DTSTART;VALUE=DATE:20240101
DTEND;VALUE=DATE:20250131
DTSTAMP:20260421T171418
CREATED:20170216T225030Z
LAST-MODIFIED:20240604T173829Z
UID:10000228-1704067200-1738281599@www.sbsps.net
SUMMARY:Annual Calendar of Events
DESCRIPTION:  \nThis page has a link to a viewable and printable version of the calendar for the entire year.   \nHere is a link to be able to view and print the calendar as a document: 2024 Calendar version June 2024  \nFor more detailed information about each event\, please refer to the individual events here on the web site. \nThis will be updated regularly as the calendar changes. Latest Update 02/07/2024 \n  \n  \n 
URL:https://www.sbsps.net/boating-event/test-printable-calendar/
LOCATION:CA
CATEGORIES:Boating Events,Business Meetings,Classes,Community Service,Meetings,Social
ORGANIZER;CN="Virginia Johns":MAILTO:sbmesafirstmate@gmail.com
END:VEVENT
BEGIN:VEVENT
DTSTART;TZID=America/Los_Angeles:20240104T193000
DTEND;TZID=America/Los_Angeles:20240104T210000
DTSTAMP:20260421T171418
CREATED:20230130T195633Z
LAST-MODIFIED:20230130T195633Z
UID:10000167-1704396600-1704402000@www.sbsps.net
SUMMARY:Business Meeting
DESCRIPTION:Business Meeting – all members welcome
URL:https://www.sbsps.net/boating-event/business-meeting-7/
LOCATION:SB Waterfront Classroom\, 125 Harbor Way\, Santa Barbara\, CA\, 93109\, United States
CATEGORIES:Business Meetings,Meetings
GEO:34.404;-119.694
X-APPLE-STRUCTURED-LOCATION;VALUE=URI;X-ADDRESS=SB Waterfront Classroom 125 Harbor Way Santa Barbara CA 93109 United States;X-APPLE-RADIUS=500;X-TITLE=125 Harbor Way:geo:-119.694,34.404
END:VEVENT
END:VCALENDAR