BEGIN:VCALENDAR
VERSION:2.0
PRODID:-//Santa Barbara Sail &amp; Power Squadron - ECPv6.15.20//NONSGML v1.0//EN
CALSCALE:GREGORIAN
METHOD:PUBLISH
X-ORIGINAL-URL:https://www.sbsps.net
X-WR-CALDESC:Events for Santa Barbara Sail &amp; Power Squadron
REFRESH-INTERVAL;VALUE=DURATION:PT1H
X-Robots-Tag:noindex
X-PUBLISHED-TTL:PT1H
BEGIN:VTIMEZONE
TZID:America/Los_Angeles
BEGIN:DAYLIGHT
TZOFFSETFROM:-0800
TZOFFSETTO:-0700
TZNAME:PDT
DTSTART:20220313T100000
END:DAYLIGHT
BEGIN:STANDARD
TZOFFSETFROM:-0700
TZOFFSETTO:-0800
TZNAME:PST
DTSTART:20221106T090000
END:STANDARD
BEGIN:DAYLIGHT
TZOFFSETFROM:-0800
TZOFFSETTO:-0700
TZNAME:PDT
DTSTART:20230312T100000
END:DAYLIGHT
BEGIN:STANDARD
TZOFFSETFROM:-0700
TZOFFSETTO:-0800
TZNAME:PST
DTSTART:20231105T090000
END:STANDARD
BEGIN:DAYLIGHT
TZOFFSETFROM:-0800
TZOFFSETTO:-0700
TZNAME:PDT
DTSTART:20240310T100000
END:DAYLIGHT
BEGIN:STANDARD
TZOFFSETFROM:-0700
TZOFFSETTO:-0800
TZNAME:PST
DTSTART:20241103T090000
END:STANDARD
BEGIN:DAYLIGHT
TZOFFSETFROM:-0800
TZOFFSETTO:-0700
TZNAME:PDT
DTSTART:20250309T100000
END:DAYLIGHT
BEGIN:STANDARD
TZOFFSETFROM:-0700
TZOFFSETTO:-0800
TZNAME:PST
DTSTART:20251102T090000
END:STANDARD
END:VTIMEZONE
BEGIN:VEVENT
DTSTART;TZID=America/Los_Angeles:20230130T080000
DTEND;TZID=America/Los_Angeles:20240131T170000
DTSTAMP:20260421T233548
CREATED:20230130T191426Z
LAST-MODIFIED:20230828T174154Z
UID:10000239-1675065600-1706720400@www.sbsps.net
SUMMARY:Calendar of 2023 Events
DESCRIPTION:For a complete printable list of events for 2023 print HERE 03/02/23 version
URL:https://www.sbsps.net/boating-event/calendar-of-2023-events/
LOCATION:CA
CATEGORIES:Boating Events,Business Meetings,Classes,Meetings,Social
ORGANIZER;CN="Virginia Johns":MAILTO:sbmesafirstmate@gmail.com
END:VEVENT
BEGIN:VEVENT
DTSTART;TZID=America/Los_Angeles:20231017T190000
DTEND;TZID=America/Los_Angeles:20231017T210000
DTSTAMP:20260421T233548
CREATED:20231001T211049Z
LAST-MODIFIED:20231004T211929Z
UID:10000176-1697569200-1697576400@www.sbsps.net
SUMMARY:Rules of the Road Seminar - October 2023
DESCRIPTION:Seminar 1:  Rules of the Road – Navigation aids\, lights\, markers\, sounds\, rules when encountering other vessels.  October 17 \nClick  HERE for a link to the seminar brochure \nCost is $20 for individual seminar or PACKAGE DEAL $60 for all four. seminars – Refer to Brochure link above.  Purchase tickets at link below.
URL:https://www.sbsps.net/boating-event/rules-of-the-road-seminar-october-2023/
LOCATION:SB Waterfront Classroom\, 125 Harbor Way\, Santa Barbara\, CA\, 93109\, United States
CATEGORIES:Classes
ORGANIZER;CN="Rich Ciolino":MAILTO:rdciolino@cox.net
GEO:34.404;-119.694
X-APPLE-STRUCTURED-LOCATION;VALUE=URI;X-ADDRESS=SB Waterfront Classroom 125 Harbor Way Santa Barbara CA 93109 United States;X-APPLE-RADIUS=500;X-TITLE=125 Harbor Way:geo:-119.694,34.404
END:VEVENT
BEGIN:VEVENT
DTSTART;TZID=America/Los_Angeles:20231021T100000
DTEND;TZID=America/Los_Angeles:20231021T170000
DTSTAMP:20260421T233548
CREATED:20230130T194455Z
LAST-MODIFIED:20230303T195025Z
UID:10000245-1697882400-1697907600@www.sbsps.net
SUMMARY:Harbor Seafood Festival - dockside lunch for workers
DESCRIPTION:Support the Squadron by manning our information table at the Annual Harbor Seafood festival.  refreshment\, snacks and lunch will be provided.
URL:https://www.sbsps.net/boating-event/harbor-seafood-festival-dockside-lunch-for-workers/
LOCATION:Santa Barbara Harbor\, Waterfront\, Santa Barbara\, CA\, 93109\, United States
CATEGORIES:Meetings,Social
ORGANIZER;CN="Rich Ciolino":MAILTO:rdciolino@cox.net
GEO:34.4037491;-119.6935611
X-APPLE-STRUCTURED-LOCATION;VALUE=URI;X-ADDRESS=Santa Barbara Harbor Waterfront Santa Barbara CA 93109 United States;X-APPLE-RADIUS=500;X-TITLE=Waterfront:geo:-119.6935611,34.4037491
END:VEVENT
BEGIN:VEVENT
DTSTART;TZID=America/Los_Angeles:20231024T190000
DTEND;TZID=America/Los_Angeles:20231024T210000
DTSTAMP:20260421T233548
CREATED:20231001T212912Z
LAST-MODIFIED:20231004T211845Z
UID:10000248-1698174000-1698181200@www.sbsps.net
SUMMARY:Seminar - Docking\, Undocking for Sail and Power
DESCRIPTION:Second seminar in Fall series covering docking and undocking for both motor and sailboats \nClick  HERE to see full brochure 
URL:https://www.sbsps.net/boating-event/seminar-docking-undocking-for-sail-and-power/
LOCATION:SB Waterfront Classroom\, 125 Harbor Way\, Santa Barbara\, CA\, 93109\, United States
CATEGORIES:Classes
ORGANIZER;CN="Rich Ciolino":MAILTO:rdciolino@cox.net
GEO:34.404;-119.694
X-APPLE-STRUCTURED-LOCATION;VALUE=URI;X-ADDRESS=SB Waterfront Classroom 125 Harbor Way Santa Barbara CA 93109 United States;X-APPLE-RADIUS=500;X-TITLE=125 Harbor Way:geo:-119.694,34.404
END:VEVENT
END:VCALENDAR