BEGIN:VCALENDAR
VERSION:2.0
PRODID:-//Santa Barbara Sail &amp; Power Squadron - ECPv6.15.20//NONSGML v1.0//EN
CALSCALE:GREGORIAN
METHOD:PUBLISH
X-WR-CALNAME:Santa Barbara Sail &amp; Power Squadron
X-ORIGINAL-URL:https://www.sbsps.net
X-WR-CALDESC:Events for Santa Barbara Sail &amp; Power Squadron
REFRESH-INTERVAL;VALUE=DURATION:PT1H
X-Robots-Tag:noindex
X-PUBLISHED-TTL:PT1H
BEGIN:VTIMEZONE
TZID:America/Los_Angeles
BEGIN:DAYLIGHT
TZOFFSETFROM:-0800
TZOFFSETTO:-0700
TZNAME:PDT
DTSTART:20240310T100000
END:DAYLIGHT
BEGIN:STANDARD
TZOFFSETFROM:-0700
TZOFFSETTO:-0800
TZNAME:PST
DTSTART:20241103T090000
END:STANDARD
BEGIN:DAYLIGHT
TZOFFSETFROM:-0800
TZOFFSETTO:-0700
TZNAME:PDT
DTSTART:20250309T100000
END:DAYLIGHT
BEGIN:STANDARD
TZOFFSETFROM:-0700
TZOFFSETTO:-0800
TZNAME:PST
DTSTART:20251102T090000
END:STANDARD
BEGIN:DAYLIGHT
TZOFFSETFROM:-0800
TZOFFSETTO:-0700
TZNAME:PDT
DTSTART:20260308T100000
END:DAYLIGHT
BEGIN:STANDARD
TZOFFSETFROM:-0700
TZOFFSETTO:-0800
TZNAME:PST
DTSTART:20261101T090000
END:STANDARD
BEGIN:DAYLIGHT
TZOFFSETFROM:-0800
TZOFFSETTO:-0700
TZNAME:PDT
DTSTART:20270314T100000
END:DAYLIGHT
BEGIN:STANDARD
TZOFFSETFROM:-0700
TZOFFSETTO:-0800
TZNAME:PST
DTSTART:20271107T090000
END:STANDARD
END:VTIMEZONE
BEGIN:VEVENT
DTSTART;TZID=America/Los_Angeles:20250212T080000
DTEND;TZID=America/Los_Angeles:20260110T170000
DTSTAMP:20260421T184603
CREATED:20250212T211807Z
LAST-MODIFIED:20250212T211904Z
UID:10000292-1739347200-1768064400@www.sbsps.net
SUMMARY:2025 Calendar of Events
DESCRIPTION:For a printable calendar of the  year’s events click HERE
URL:https://www.sbsps.net/boating-event/2025-calendar-of-events/
LOCATION:CA
CATEGORIES:Boating Events,Business Meetings,Classes,Community Service,Meetings,Social
ORGANIZER;CN="Virginia Johns":MAILTO:sbmesafirstmate@gmail.com
END:VEVENT
BEGIN:VEVENT
DTSTART;TZID=America/Los_Angeles:20251018T080000
DTEND;TZID=America/Los_Angeles:20251018T170000
DTSTAMP:20260421T184603
CREATED:20250208T001658Z
LAST-MODIFIED:20250208T001658Z
UID:10000285-1760774400-1760806800@www.sbsps.net
SUMMARY:Harbor Seafood Festival
DESCRIPTION:Annual Harbor Seafood Festival
URL:https://www.sbsps.net/boating-event/harbor-seafood-festival-2/
LOCATION:Santa Barbara Harbor\, Waterfront\, Santa Barbara\, CA\, 93109\, United States
CATEGORIES:Community Service
ORGANIZER;CN="Dennis Johns":MAILTO:sbmesasailor@gmail.com
GEO:34.4037491;-119.6935611
X-APPLE-STRUCTURED-LOCATION;VALUE=URI;X-ADDRESS=Santa Barbara Harbor Waterfront Santa Barbara CA 93109 United States;X-APPLE-RADIUS=500;X-TITLE=Waterfront:geo:-119.6935611,34.4037491
END:VEVENT
END:VCALENDAR