BEGIN:VCALENDAR
VERSION:2.0
PRODID:-//Santa Barbara Sail &amp; Power Squadron - ECPv6.15.20//NONSGML v1.0//EN
CALSCALE:GREGORIAN
METHOD:PUBLISH
X-WR-CALNAME:Santa Barbara Sail &amp; Power Squadron
X-ORIGINAL-URL:https://www.sbsps.net
X-WR-CALDESC:Events for Santa Barbara Sail &amp; Power Squadron
REFRESH-INTERVAL;VALUE=DURATION:PT1H
X-Robots-Tag:noindex
X-PUBLISHED-TTL:PT1H
BEGIN:VTIMEZONE
TZID:America/Los_Angeles
BEGIN:DAYLIGHT
TZOFFSETFROM:-0800
TZOFFSETTO:-0700
TZNAME:PDT
DTSTART:20250309T100000
END:DAYLIGHT
BEGIN:STANDARD
TZOFFSETFROM:-0700
TZOFFSETTO:-0800
TZNAME:PST
DTSTART:20251102T090000
END:STANDARD
BEGIN:DAYLIGHT
TZOFFSETFROM:-0800
TZOFFSETTO:-0700
TZNAME:PDT
DTSTART:20260308T100000
END:DAYLIGHT
BEGIN:STANDARD
TZOFFSETFROM:-0700
TZOFFSETTO:-0800
TZNAME:PST
DTSTART:20261101T090000
END:STANDARD
BEGIN:DAYLIGHT
TZOFFSETFROM:-0800
TZOFFSETTO:-0700
TZNAME:PDT
DTSTART:20270314T100000
END:DAYLIGHT
BEGIN:STANDARD
TZOFFSETFROM:-0700
TZOFFSETTO:-0800
TZNAME:PST
DTSTART:20271107T090000
END:STANDARD
END:VTIMEZONE
BEGIN:VEVENT
DTSTART;TZID=America/Los_Angeles:20261118T173000
DTEND;TZID=America/Los_Angeles:20261118T193000
DTSTAMP:20260420T132137
CREATED:20260202T235923Z
LAST-MODIFIED:20260202T235923Z
UID:10000311-1795023000-1795030200@www.sbsps.net
SUMMARY:Maritime Museum Mixer
DESCRIPTION:Annual Maritime Museum Mixer held at the Museum.
URL:https://www.sbsps.net/boating-event/maritime-museum-mixer-4/
LOCATION:Santa Barbara Maritime Museum\, 113 Harbor Way\, #190\, Santa Barbara\, CA\, 93109\, United States
CATEGORIES:Social
ORGANIZER;CN="Dennis Johns":MAILTO:sbmesasailor@gmail.com
GEO:34.4041086;-119.6937365
X-APPLE-STRUCTURED-LOCATION;VALUE=URI;X-ADDRESS=Santa Barbara Maritime Museum 113 Harbor Way #190 Santa Barbara CA 93109 United States;X-APPLE-RADIUS=500;X-TITLE=113 Harbor Way\, #190:geo:-119.6937365,34.4041086
END:VEVENT
BEGIN:VEVENT
DTSTART;TZID=America/Los_Angeles:20261212T120000
DTEND;TZID=America/Los_Angeles:20261212T150000
DTSTAMP:20260420T132137
CREATED:20260203T000105Z
LAST-MODIFIED:20260203T000105Z
UID:10000312-1797076800-1797087600@www.sbsps.net
SUMMARY:Holiday Party
DESCRIPTION:Holiday Party to celebrate the Christmas Season.  Watch email for details.
URL:https://www.sbsps.net/boating-event/holiday-party-4/
LOCATION:TBD\, Santa Barbara\, CA\, United States
CATEGORIES:Social
ORGANIZER;CN="Dennis Johns":MAILTO:sbmesasailor@gmail.com
GEO:34.4208305;-119.6981901
END:VEVENT
END:VCALENDAR